BEGIN:VCALENDAR
VERSION:2.0
PRODID:-//Eventin//Event Calendar//EN
CALSCALE:GREGORIAN
METHOD:PUBLISH
BEGIN:VEVENT
UID:bca469712a0d272e6785f91ae210d0ab@yourit.de
SUMMARY:WEBINAR kostenfrei: NIS2 - Anforderungen\, Betroffenheit und Umsetz
 ung verständlich erklärt
DESCRIPTION:Schon wieder NIS2? Ja. Weil Wegducken keine Umsetzungsstrategie
  ist.Das Thema ist in vielen Unternehmen angekommen. Zumindest theoretisch.
 \nIn der Praxis sieht es anders aus: Viele Unternehmen wissen noch immer ni
 cht sicher\, ob sie betroffen sind. Andere haben zwar schon viel über NIS2
  gehört\, aber keine klare Vorstellung davon\, was jetzt konkret zu tun is
 t. Und manche schieben das Thema bewusst vor sich her\, weil es unbequem\, 
 unübersichtlich oder vermeintlich „nur ein IT-Thema“ ist.\nGenau hier 
 setzt unser Webinar an.Wir erklären die NIS2-Richtlinie verständlich\, pr
 axisnah und ohne juristisches Fachchinesisch. Im Mittelpunkt stehen nicht n
 ur die gesetzlichen Anforderungen\, sondern vor allem die typischen Fragen 
 aus der Unternehmenspraxis:\n- Wer ist betroffen?- Was bedeutet direkte ode
 r indirekte Betroffenheit?- Welche Rolle spielt die Geschäftsführung?- We
 lche Anforderungen landen bei IT\, Organisation\, Prozessen und Nachweisen?
 - Und wie startet man sinnvoll\, ohne sofort in Aktionismus oder Papierberg
 e zu geraten?\nDas Webinar richtet sich an Geschäftsführungen\, IT-Verant
 wortliche\, Datenschutz- und Informationssicherheitsverantwortliche sowie a
 n Systemhaus-Partner\, die ihre Kunden fundiert zum Thema NIS2 begleiten m
 öchten.\nInhalte des Webinars:Aktueller Stand zur NIS2-Richtlinie und ihre
 r UmsetzungWarum viele Unternehmen ihre Betroffenheit noch immer falsch ein
 schätzenDirekte und indirekte Betroffenheit verständlich erklärtTypische
  Anforderungen an Geschäftsführung\, IT und OrganisationHäufige Umsetzun
 gsfehler im MittelstandWelche Nachweise und Prozesse wirklich relevant werd
 enPraxisnaher Einstieg in die nächsten sinnvollen SchritteOrientierung fü
 r Partner\, die ihre Kunden zu NIS2 ansprechen möchten\nWarum teilnehmen?W
 eil NIS2 nicht dadurch verschwindet\, dass man es ignoriert.Das Webinar sch
 afft Klarheit\, wo heute oft Unsicherheit herrscht. Die Teilnehmenden erhal
 ten einen kompakten Überblick\, eine verständliche Einordnung und konkret
 e Ansatzpunkte für die weitere Umsetzung.\nMelden Sie sich gleich an. Wir 
 freuen uns auf Sie!
LOCATION:Online
DTSTAMP:20260421T111316Z
DTSTART:20260521T073000Z
DTEND:20260521T083000Z
END:VEVENT
END:VCALENDAR
